Workbook

Sheet Heurística Prinicipal 
A1: Nombre del producto digital | B1: 0 No representa esta característica | C1: 1 Cumple con lo mínimo y con deficiencias | D1: 2 Cumple ofreciendo características estándar | E1: 3 Se distingue como buena práctica
A2: Alcance | B2: Tareas
A3: App Habitanto
A4: 10 heuristicas en 30 variables | B4: E1 | C4: E2 | D4: E3 | E4: E4 | F4: Promedio | G4: Comentarios
A5: H1. Visibilidad y Estado del Sistema | F5: =AVERAGE(F6:F7) -> 0
A6: El sistema mantiene al usuario informado sobre el estatus de alguna acción que ha realizado | B6: 0 | C6: 0 | D6: 0 | E6: 0 | F6: =AVERAGE(B6:E6) -> 0
A7: El progreso es visible mediante barras de avance o gifs | B7: 0 | C7: 0 | D7: 0 | E7: 0 | F7: =AVERAGE(B7:E7) -> 0
A8: H2. Relación entre el sistema y el mundo real | F8: =AVERAGE(F9:F11) -> 0
A9: El sistema usa términos, lenguaje y conceptos que son familiares para el usuario | B9: 0 | C9: 0 | D9: 0 | E9: 0 | F9: =AVERAGE(B9:E9) -> 0
A10: El sistema utiliza convenciones del mundo real o metáforas para transmitir el uso correcto | B10: 0 | C10: 0 | D10: 0 | E10: 0 | F10: =AVERAGE(B10:E10) -> 0
A11: El sistema utiliza un orden natural y lógico | B11: 0 | C11: 0 | D11: 0 | E11: 0 | F11: =AVERAGE(B11:E11) -> 0
A12: H3. Control y libertad del usuario | F12: =AVERAGE(F13:F14) -> 0
A13: El sistema permite hace sentir al usuario que puede controlar el flujo o la operación | B13: 0 | C13: 0 | D13: 0 | E13: 0 | F13: =AVERAGE(B13:E13) -> 0
A14: El sistema permite al usuario deshacer alguna acción a través de una “salida de emergencia” | B14: 0 | C14: 0 | D14: 0 | E14: 0 | F14: =AVERAGE(B14:E14) -> 0
A15: H4. Consistencia y estándares | F15: =AVERAGE(F16:F18) -> 0
A16: Los botones son consistentes (tamaño, posición, estilo) a lo largo de la operación | B16: 0 | C16: 0 | D16: 0 | E16: 0 | F16: =AVERAGE(B16:E16) -> 0
A17: Los fonts son consistentes (tamaño, posición, estilo) a lo largo de la operación | B17: 0 | C17: 0 | D17: 0 | E17: 0 | F17: =AVERAGE(B17:E17) -> 0
A18: Los gráficos son consistentes (tamaño, posición, estilo) a lo largo de la operación | B18: 0 | C18: 0 | D18: 0 | E18: 0 | F18: =AVERAGE(B18:E18) -> 0
A19: H5. Prevención de errores | F19: =AVERAGE(F20:F21) -> 0
A20: El sistema previene que el usuario cometa algún error o llegue a una situación donde se sienta comprometido a realizar alguna acción | B20: 0 | C20: 0 | D20: 0 | E20: 0 | F20: =AVERAGE(B20:E20) -> 0
A21: El sistema muestra mensajes claros o mecanismos para prevenir errores | B21: 0 | C21: 0 | D21: 0 | E21: 0 | F21: =AVERAGE(B21:E21) -> 0
A22: H6. Reconocimiento antes que memoria | F22: =AVERAGE(F23:F26) -> 0
A23: El sistema evita que el usuario tenga que recurrir a la memoria durante la operación | B23: 0 | C23: 0 | D23: 0 | E23: 0 | F23: =AVERAGE(B23:E23) -> 0
A24: El sistema ayuda al usuario a reconocer lo que puede hacer | B24: 0 | C24: 0 | D24: 0 | E24: 0 | F24: =AVERAGE(B24:E24) -> 0
A25: El sistema da opciones visibles y adecuadas para ayudar al usuario a tomar decisiones | B25: 0 | C25: 0 | D25: 0 | E25: 0 | F25: =AVERAGE(B25:E25) -> 0
A26: El sistema da opciones para comparar alternativas sin tener que memorizar información | B26: 0 | C26: 0 | D26: 0 | E26: 0 | F26: =AVERAGE(B26:E26) -> 0
A27: H7. Flexibilidad y eficiencia de uso | F27: =AVERAGE(F28:F29) -> 0
A28: El sistema permite deshacer, rehacer y revertir acciones | B28: 0 | C28: 0 | D28: 0 | E28: 0 | F28: =AVERAGE(B28:E28) -> 0
A29: El sistema da opciones especializadas para usuarios de nivel avanzado | B29: 0 | C29: 0 | D29: 0 | E29: 0 | F29: =AVERAGE(B29:E29) -> 0
A30: H8. Estética y diseño minimalista | F30: =AVERAGE(F31:F33) -> 0
A31: Los gráficos, fotos y elementos no son solamente decorativos y cumplen una función o propósito | B31: 0 | C31: 0 | D31: 0 | E31: 0 | F31: 0
A32: Existen espacios blancos o negativos para descansar la vista | B32: 0 | C32: 0 | D32: 0 | E32: 0 | F32: =AVERAGE(B32:E32) -> 0
A33: Existe armonía visual y de sentido estético | B33: 0 | C33: 0 | D33: 0 | E33: 0 | F33: =AVERAGE(B33:E33) -> 0
A34: H9. Reconocimiento y recuperación de errores | F34: =AVERAGE(F35:F38) -> 0
A35: El sistema permite al usuario recuperarse de un error | B35: 0 | C35: 0 | D35: 0 | E35: 0 | F35: =AVERAGE(B35:E35) -> 0
A36: El sistema muestra claramente dónde se ha cometido el error | B36: 0 | C36: 0 | D36: 0 | E36: 0 | F36: =AVERAGE(B36:E36) -> 0
A37: El sistema muestra claramente qué ha ocasionado el error | B37: 0 | C37: 0 | D37: 0 | E37: 0 | F37: =AVERAGE(B37:E37) -> 0
A38: El sistema es claro en los mensajes de error y es proactivo al sugerir cómo recuperarse | B38: 0 | C38: 0 | D38: 0 | E38: 0 | F38: =AVERAGE(B38:E38) -> 0
A39: H10. Ayuda y documentación | F39: =AVERAGE(F40:F44) -> 0
A40: El sistema facilita varias formas de contacto (teléfono, email, "call me back", oficinas) | B40: 0 | C40: 0 | D40: 0 | E40: 0 | F40: =AVERAGE(B40:E40) -> 0
...

Sheet Resumen
A1: – | B1: Actual | C1: Óptimo
A2: ='Heurística Prinicipal '!A5 -> H1. Visibilidad y Estado del Sistema | B2: ='Heurística Prinicipal '!F5 -> 0 | C2: 3
A3: ='Heurística Prinicipal '!A8 -> H2. Relación entre el sistema y el mundo real | B3: ='Heurística Prinicipal '!F8 -> 0 | C3: 3
A4: ='Heurística Prinicipal '!A12 -> H3. Control y libertad del usuario | B4: ='Heurística Prinicipal '!F12 -> 0 | C4: 3
A5: ='Heurística Prinicipal '!A15 -> H4. Consistencia y estándares | B5: ='Heurística Prinicipal '!F15 -> 0 | C5: 3
A6: ='Heurística Prinicipal '!A19 -> H5. Prevención de errores | B6: ='Heurística Prinicipal '!F19 -> 0 | C6: 3
A7: ='Heurística Prinicipal '!A22 -> H6. Reconocimiento antes que memoria | B7: ='Heurística Prinicipal '!F22 -> 0 | C7: 3
A8: ='Heurística Prinicipal '!A27 -> H7. Flexibilidad y eficiencia de uso | B8: ='Heurística Prinicipal '!F27 -> 0 | C8: 3
A9: ='Heurística Prinicipal '!A30 -> H8. Estética y diseño minimalista | B9: ='Heurística Prinicipal '!F30 -> 0 | C9: 3
A10: ='Heurística Prinicipal '!A34 -> H9. Reconocimiento y recuperación de errores | B10: ='Heurística Prinicipal '!F34 -> 0 | C10: 3
A11: ='Heurística Prinicipal '!A39 -> H10. Ayuda y documentación | B11: ='Heurística Prinicipal '!F39 -> 0 | C11: 3
A12: Promedio General | B12: =AVERAGE(B2:B11) -> 0 | C12: =AVERAGE(C2:C11) -> 3

Sheet Mejores Prácticas
A1: Evaluación Mejores Prácticas para [Plus Factura] | B1: 0 No representa esta característica | C1: 1 Cumple con lo mínimo y con deficiencias | D1: 2 Cumple ofreciendo características estándar | E1: 3 Se distingue como buena práctica
A2: Alcance | B2: Tareas
A3: (Qué pantallas, seccione o zonas se evaluarán) | B3: (Qué objetivo hay que lograr)
A4: 5 mejores prácticas en 36 variables | B4: E1 | C4: E2 | D4: E3 | E4: E4 | F4: Promedio | G4: Comentarios
A5: Mejores Prácticas 1. Generales | F5: =AVERAGE(F6:F10) -> 2.6
A6: Los objetivos del sitio web son concretos y bien definidos | B6: 3 | C6: 1 | D6: 2 | E6: 1 | F6: =AVERAGE(B6:E6) -> 1.75
A7: Los contenidos y servicios que se ofrecen corresponden a esos objetivos | B7: 4 | C7: 3 | D7: 2 | E7: 3 | F7: =AVERAGE(B7:E7) -> 3
A8: Tiene URLs correctas, claras y fáciles de recordar | B8: 2 | C8: 2 | D8: 2 | E8: 2 | F8: =AVERAGE(B8:E8) -> 2
A9: Muestra de forma precisa y completa qué contenidos o servicios ofrece realmente el sitio web | B9: 4 | C9: 4 | D9: 3 | E9: 3 | F9: =AVERAGE(B9:E9) -> 3.5
A10: La estructura general del sitio web está orientada al usuario | B10: 3 | C10: 3 | D10: 3 | E10: 2 | F10: =AVERAGE(B10:E10) -> 2.75
A11: Mejores Prácticas 2. Identidad e información | F11: =AVERAGE(F12:F16) -> 2.1
A12: Se muestra claramente la identidad de la empresa-sitio a través de todas las páginas | B12: 2 | C12: 1 | D12: 2 | E12: 1 | F12: =AVERAGE(B12:E12) -> 1.5
A13: El logotipo, es signiﬁcativo, identiﬁcable y suﬁcientemente visible | B13: 3 | C13: 3 | D13: 3 | E13: 3 | F13: =AVERAGE(B13:E13) -> 3
A14: El eslogan o tagline, expresa realmente qué es la empresa y qué servicios ofrece | B14: 2 | C14: 2 | D14: 2 | E14: 2 | F14: =AVERAGE(B14:E14) -> 2
A15: Se ofrece algún enlace con información sobre la empresa | B15: 1 | C15: 1 | D15: 1 | E15: 1 | F15: =AVERAGE(B15:E15) -> 1
A16: Se proporciona mecanismos para ponerse en contacto con la empresa | B16: 3 | C16: 3 | D16: 3 | E16: 3 | F16: =AVERAGE(B16:E16) -> 3
A17: Mejores Prácticas 3. Lenguaje, redacción y rotulado | F17: =AVERAGE(F18:F24) -> 1.0714286
A18: El sitio web habla el mismo lenguaje que sus usuarios | B18: 1 | C18: 1 | D18: 1 | E18: 1 | F18: =AVERAGE(B18:E18) -> 1
A19: Emplea un lenguaje claro y conciso | B19: 2 | C19: 2 | D19: 2 | E19: 2 | F19: =AVERAGE(B19:E19) -> 2
A20: Es amigable, familiar y cercano | B20: 1 | C20: 0 | D20: 1 | E20: 0 | F20: =AVERAGE(B20:E20) -> 0.5
A21: Los rótulos son signiﬁcativos | B21: 1 | C21: 1 | D21: 1 | E21: 1 | F21: =AVERAGE(B21:E21) -> 1
A22: Usa un único sistema de organización, bien deﬁnido y claro | B22: 2 | C22: 2 | D22: 2 | E22: 2 | F22: =AVERAGE(B22:E22) -> 2
A23: Utiliza un sistema de rotulado controlado y preciso | B23: 1 | C23: 0 | D23: 1 | E23: 0 | F23: =AVERAGE(B23:E23) -> 0.5
A24: El título de las páginas, es correcto y ha sido planiﬁcado | B24: 1 | C24: 0 | D24: 1 | E24: 0 | F24: =AVERAGE(B24:E24) -> 0.5
A25: Mejores Prácticas 4. Cotizador | F25: =AVERAGE(F26:F39) -> 1.4285714
A26: Es comprensible la información que entrega el cotizador | B26: 2 | C26: 2 | D26: 2 | E26: 2 | F26: =AVERAGE(B26:E26) -> 2
A27: Se ofrece ayuda contextual o información relevante al usuario en caso de ser necesario | B27: 1 | C27: 2 | D27: 2 | E27: 1 | F27: =AVERAGE(B27:E27) -> 1.5
A28: Es entendible el precio que terminará pagando el usuario en caso de simular cuotas | B28: 2 | C28: 2 | D28: 2 | E28: 2 | F28: =AVERAGE(B28:E28) -> 2
A29: La infomación se visualiza de forma clara (textos escaneables) | B29: 2 | C29: 2 | D29: 2 | E29: 2 | F29: =AVERAGE(B29:E29) -> 2
A30: Los textos están trabajados correctamente: fáciles de entender y reducidos al máximo | B30: 2 | C30: 2 | D30: 2 | E30: 2 | F30: =AVERAGE(B30:E30) -> 2
A31: Los productos son presentados clave de ventajas y beneficios | B31: 2 | C31: 2 | D31: 2 | E31: 2 | F31: =AVERAGE(B31:E31) -> 2
A32: La información del producto es completa para tomar la decisión | B32: 1 | C32: 0 | D32: 1 | E32: 0 | F32: =AVERAGE(B32:E32) -> 0.5
A33: La información del producto se acompaña de fotografías de calidad | B33: 1 | C33: 0 | D33: 1 | E33: 0 | F33: =AVERAGE(B33:E33) -> 0.5
A34: Se muestran con claridad las llamadas a la compra del producto | B34: 2 | C34: 2 | D34: 2 | E34: 2 | F34: =AVERAGE(B34:E34) -> 2
A35: Las llamadas a la acción utilizan verbos que facilitan a la acción | B35: 1 | C35: 0 | D35: 1 | E35: 0 | F35: =AVERAGE(B35:E35) -> 0.5
A36: Se utiliza la sensación e urgencia como incentivo (productos que se pueden agotar) | B36: 1 | C36: 0 | D36: 1 | E36: 0 | F36: =AVERAGE(B36:E36) -> 0.5
A37: Se ofrecen incentivos únicos a través de la compra online | B37: 1 | C37: 0 | D37: 1 | E37: 0 | F37: =AVERAGE(B37:E37) -> 0.5
... A39: La comparación de productos resulta un proceso fácil y la información es completa y entendible | B39: 2 | C39: 2 | D39: 2 | E39: 2 | F39: =AVERAGE(B39:E39) -> 2
A40: Mejores Prácticas 5. Versión Responsiva | F40: =AVERAGE(F41:F45) -> 1.35
A41: El sitio detecta el dispositivo desde el que se accede mostrando una versión responsiva | B41: 2 | C41: 2 | D41: 2 | E41: 2 | F41: =AVERAGE(B41:E41) -> 2
...

Sheet Heurística Psicológica
A1: Evaluación Heurística Psicológica para [NOMBRE] | B1: 0 No representa esta característica | C1: 1 Cumple con lo mínimo y con deficiencias | D1: 2 Cumple ofreciendo características estándar | E1: 3 Se distingue como buena práctica
A2: Alcance | B2: Tareas
A3: (Qué pantallas, seccione o zonas se evaluarán) | B3: (Qué objetivo hay que lograr)
A4: 9 heurísticas en 38 variables | B4: E1 | C4: E2 | D4: E3 | E4: E4 | F4: Promedio | G4: Comentarios
A5: H1. La gente no quiere trabajar o pensar de más | F5: =AVERAGE(F6:F11) -> 1.0416667
A6: El sistema no requiere que el usuario haga más trabajo de lo necesario | B6: 1 | C6: 1 | D6: 2 | E6: 1 | F6: =AVERAGE(B6:E6) -> 1.25
A7: El sistema muestra la información en pequeños bloques (divulgación progresiva) | B7: 2 | C7: 1 | D7: 0 | E7: 1 | F7: =AVERAGE(B7:E7) -> 1
A8: Se muestran ejemplos (adicionalmente a las descripciones) | B8: 2 | C8: 2 | D8: 2 | E8: 2 | F8: =AVERAGE(B8:E8) -> 2
A9: Los objetos en la pantalla tienen affordances correctos; las cosas clickeables parecen clickeables | B9: 1 | C9: 0 | D9: 1 | E9: 0 | F9: =AVERAGE(B9:E9) -> 0.5
A10: El sistema no brinda más funciones al usuario, sino sólo las necesarias | B10: 0 | C10: 1 | D10: 1 | E10: 1 | F10: =AVERAGE(B10:E10) -> 0.75
A11: Se proporcionan valores predeterminados (defaults) | B11: 0 | C11: 1 | D11: 1 | E11: 1 | F11: =AVERAGE(B11:E11) -> 0.75
A12: H2. Las personas tienen limitaciones | F12: =AVERAGE(F13:F16) -> 1.0625
A13: En todo momento, unicamente se proporciona la información indispensable en la pantalla | B13: 1 | C13: 1 | D13: 2 | E13: 1 | F13: =AVERAGE(B13:E13) -> 1.25
A14: La información es fácil de escanear | B14: 0 | C14: 1 | D14: 0 | E14: 1 | F14: =AVERAGE(B14:E14) -> 0.5
A15: Se usan encabezados y párrafos cortos de información o texto | B15: 2 | C15: 2 | D15: 2 | E15: 2 | F15: =AVERAGE(B15:E15) -> 2
A16: El sistema no requiere que el usuario realice múltiples tareas al mismo tiempo | B16: 1 | C16: 0 | D16: 1 | E16: 0 | F16: =AVERAGE(B16:E16) -> 0.5
A17: H3. Las personas cometen errores | F17: =AVERAGE(F18:F23) -> 1
A18: El sistema está preparado para los errores del usuario. Anticipa cuáles son posibles e intenta prevenirlos | B18: 0 | C18: 1 | D18: 0 | E18: 1 | F18: =AVERAGE(B18:E18) -> 0.5
A19: Se requiere la confirmación del usuario antes de realizar acciones con resultados graves en caso de error | B19: 2 | C19: 2 | D19: 2 | E19: 2 | F19: =AVERAGE(B19:E19) -> 2
A20: Es fácil de deshacer alguna acción | B20: 1 | C20: 0 | D20: 1 | E20: 0 | F20: =AVERAGE(B20:E20) -> 0.5
A21: Se evitan errores en lugar de mostrarse y corregirse | B21: 0 | C21: 1 | D21: 0 | E21: 1 | F21: =AVERAGE(B21:E21) -> 0.5
A22: Las tareas propensas a errores se dividen en secciones más pequeñas | B22: 2 | C22: 2 | D22: 2 | E22: 2 | F22: =AVERAGE(B22:E22) -> 2
A23: Si el sistema puede corregir un error del usuario, lo hace y muestra retroalimentación de lo que hizo | B23: 1 | C23: 0 | D23: 1 | E23: 0 | F23: =AVERAGE(B23:E23) -> 0.5
A24: H4. La memoria humana es complicada | F24: =AVERAGE(F25:F27) -> 1.5
A25: El sistema no está completamente basado en la memorias del usuario | B25: 2 | C25: 2 | D25: 2 | E25: 2 | F25: =AVERAGE(B25:E25) -> 2
A26: Los usuarios no están obligados a recordar cosas de una tarea a otra | B26: 1 | C26: 0 | D26: 1 | E26: 0 | F26: =AVERAGE(B26:E26) -> 0.5
A27: Los usuarios no están obligados a recordar más de 3-4 items a la vez | B27: 2 | C27: 2 | D27: 2 | E27: 2 | F27: =AVERAGE(B27:E27) -> 2
A28: H5. Atención | F28: =AVERAGE(F29:F32) -> 0.75
A29: La atención de los usuarios es retenida en los momentos correctos; los usuarios no se distraen cuando prestan atención a algo importante | B29: 1 | C29: 1 | D29: 2 | E29: 1 | F29: =AVERAGE(B29:E29) -> 1.25
A30: El sistema usa objetos diferentes o novedosos en la interfaz cuando quiere que el usuario preste atención | B30: 0 | C30: 1 | D30: 0 | E30: 1 | F30: =AVERAGE(B30:E30) -> 0.5
A31: Para llamar la atención, el sistema utiliza colores brillantes, fuentes grandes, tonos y pitidos cuando es necesario | B31: 1 | C31: 0 | D31: 1 | E31: 0 | F31: =AVERAGE(B31:E31) -> 0.5
A32: El sistema no distrae innecesariamente a los usuarios | B32: 0 | C32: 1 | D32: 1 | E32: 1 | F32: =AVERAGE(B32:E32) -> 0.75
A33: H6. Las personas buscan información | F33: =AVERAGE(F34:F35) -> 1.25
A34: El sistema proporciona más información a los usuarios cuando lo solicitan | B34: 2 | C34: 2 | D34: 2 | E34: 2 | F34: =AVERAGE(B34:E34) -> 2
A35: El sistema proporciona comentarios suficientes para decirle al usuario lo que está sucediendo | B35: 1 | C35: 0 | D35: 1 | E35: 0 | F35: =AVERAGE(B35:E35) -> 0.5
A36: H7. Procesamiento inconsciente | F36: =AVERAGE(F37:F39) -> 1.5
A37: Cuando se requiere que los usuarios realicen una acción grande, primero se les exige que realicen una más pequeña | B37: 1 | C37: 0 | D37: 1 | E37: 0 | F37: =AVERAGE(B37:E37) -> 0.5
A38: El sistema usa mensajes de alerta o peligro de manera adecuada para captar la atención del usuario | B38: 2 | C38: 2 | D38: 2 | E38: 2 | F38: =AVERAGE(B38:E38) -> 2
A39: Las imágenes de personas e historias se utilizan para inducir respuestas emocionales en los usuarios | B39: 2 | C39: 2 | D39: 2 | E39: 2 | F39: =AVERAGE(B39:E39) -> 2
A40: H8. Las personas generan modelos mentales | F40: =AVERAGE(F41:F44) -> 1.25
...
